BEGIN:VCALENDAR
VERSION:2.0
PRODID:Madera County Calendar Creator
METHOD:PUBLISH
BEGIN:VEVENT
DTSTAMP:20260408T172517
DTSTART:20260409T150000
DTEND:20260409T160000
SUMMARY:Bookmobile visit at Parksdale
DESCRIPTION:Explore the Bookmobile filled with great books for all ages. Families can sign up for a library card, check out books, and take part in activities that celebrate reading and community.
X-ALT-DESC;FMTTYPE=text/html:Explore the Bookmobile filled with great books for all ages. Families can sign up for a library card, check out books, and take part in activities that celebrate reading and community.
LOCATION:Parksdale Village\, 13549 Wood St Madera\, California 93637
CLASS:PUBLIC
END:VEVENT
END:VCALENDAR
