BEGIN:VCALENDAR
VERSION:2.0
PRODID:Madera County Calendar Creator
METHOD:PUBLISH
BEGIN:VEVENT
DTSTAMP:20260406T115057
DTSTART:20260407T150000
DTEND:20260407T163000
SUMMARY:Learn about High Blood Pressure
DESCRIPTION:
X-ALT-DESC;FMTTYPE=text/html:
LOCATION:Madera County Library\, 121 N G ST Madera\, California 93637
CLASS:PUBLIC
END:VEVENT
END:VCALENDAR
