BEGIN:VCALENDAR
VERSION:2.0
PRODID:Madera County Calendar Creator
METHOD:PUBLISH
BEGIN:VEVENT
DTSTAMP:20260324T115035
DTSTART:20260414T160000
DTEND:20260414T170000
SUMMARY:English - Digital Literacy for Adults
DESCRIPTION:
X-ALT-DESC;FMTTYPE=text/html:
LOCATION:Madera County Library\, 121 N G ST Madera\, California 93637
CLASS:PUBLIC
END:VEVENT
END:VCALENDAR
